BEGIN:VCALENDAR
VERSION:2.0
PRODID:https://github.com/derhansen/sf_event_mgt
METHOD:PUBLISH
BEGIN:VEVENT
UID:270-56@www.wohnprojekte-portal.de
CLASS: PUBLIC
SUMMARY:Ambulant betreute Wohngemeinschaften
DESCRIPTION:Wie wollen wir alt werden? In Gemeinschaft!\n\n\n\nAngesichts d
 es demografischen Wandels, des Rückgangs familiärer Unterstützungsstrukture
 n, fehlender stationärer Pflegeeinrichtungen sowie des Personalmangels in d
 er ambulanten Pflege gewinnen alternative Wohn- und Pflegeformen zunehmend 
 an Bedeutung. Gleichzeitig wächst bei vielen Menschen der Wunsch, im Alter 
 nicht allein zu leben, sondern Teil einer Gemeinschaft zu bleiben.\n\n\n\nI
 m Rahmen des Online-Seminars werden unterschiedliche Modelle gemeinschaftli
 chen Wohnens im Alter vorgestellt – von Alten-WGs über Wohnprojekte 60+ bis
  hin zu generationenübergreifenden Wohnprojekten.\n\n\n\nNeben einem fachli
 chen Input bietet das Seminar ausreichend Raum für Austausch und Fragen.\n\
 n\n\nDie Anmeldung ist bis Montag, 4. Mai möglich.
DTSTAMP:20260422T080744Z
DTSTART:20260505T150000Z
DTEND:20260505T163000Z
END:VEVENT
END:VCALENDAR
