BEGIN:VCALENDAR
VERSION:2.0
PRODID:https://github.com/derhansen/sf_event_mgt
METHOD:PUBLISH
BEGIN:VEVENT
UID:279-56@www.wohnprojekte-portal.de
CLASS: PUBLIC
SUMMARY:FORUM ONLINE!
DESCRIPTION:Thema: Soziale Landwirtschaft und gemeinschaftliches Wohnen, wi
 e passt das zusammen?\n\nIn ihrem Impulsvortrag beleuchtet Annegret Huth di
 e Grundlagen und Chancen sozialer Landwirtschaft für neue Wohn- und Versorg
 ungsformen im Alter. Sie wird die vier Angebotstypen Sozialer Landwirtschaf
 t für die Zielgruppe der älteren Menschen und ihre Merkmale kurz vorstellen
  und auf den Benefit eingehen, den die Natur und besonders Tiere für eine g
 elingende Gemeinschaft bringen können. Anschließend stellt Guido Pusch eine
 n Pflegebauernhof als Praxisbeispiel vor und zeigt, wie gemeinschaftliches 
 Wohnen, ambulant betreute Wohngemeinschaften, Teilhabemöglichkeiten und lan
 dwirtschaftliche Alltagsstrukturen auf einem Hof verzahnt werden können. In
  der abschließenden Fragerunde besteht Gelegenheit zum Austausch über Übert
 ragbarkeit, rechtliche und organisatorische Rahmenbedingungen sowie Ansatzp
 unkte für Kommunen, Träger und Initiativen.
DTSTAMP:20260425T100747Z
DTSTART:20260518T110000Z
DTEND:20260518T124500Z
END:VEVENT
END:VCALENDAR
