BEGIN:VCALENDAR
VERSION:2.0
PRODID:https://github.com/derhansen/sf_event_mgt
METHOD:PUBLISH
BEGIN:VEVENT
UID:238-56@www.wohnprojekte-portal.de
CLASS: PUBLIC
SUMMARY:Info-Veranstaltung für Interessierte
DESCRIPTION:An diesem Infonachmittag stellen wir euch unser Projekt vor Ort
  vor. Wir zeigen euch die Wohnungen und das Gelände und stehen für eure Fra
 gen in Gruppen, oder auf Wunsch auch in Einzelgesprächen zur Verfügung. Die
  Veranstaltung beginnt um 15 Uhr.\n\nWir bitten um verbindliche Anmeldung u
 nter wohnprojekt1@ruehls.info
LOCATION:Wohngemeinschaft Taubenhof 50+
DTSTAMP:20260425T100747Z
DTSTART:20260515T130000Z
DTEND:20260515T180000Z
END:VEVENT
END:VCALENDAR
