BEGIN:VCALENDAR
VERSION:2.0
PRODID:https://github.com/derhansen/sf_event_mgt
METHOD:PUBLISH
BEGIN:VEVENT
UID:204-56@www.wohnprojekte-portal.de
CLASS: PUBLIC
SUMMARY:Jahrestreffen der Safe Housing for Women Group
DESCRIPTION:Stiftung Kienhorstpark i. E. - Safe Housing for Women:\n\n\n\nU
 nser diesjähriges Treffen ist vorverlegt, da wir am 19. Juni auf dem ZUSAMM
 EN LEBEN FESTIVAL in Stuttgart sind.\n\n\n\nWir treffen uns nun am Freitag,
  12.6.2026 um 12 Uhr im Auguste Frauen- und Mädchentreff in der Auguste-Vik
 toria-Allee 17, 13403 Berlin.\n\n\n\nSollte noch gebaut werden (der Frauent
 reff vergrößert sich!), findet Ihr uns im schönen Garten hinter dem Haus. B
 ei Anmeldung unter stiftung.kienhorstpark@web.de gibt's Kaffee und Kuchen (
 Women only!)\n\n\n\n\n\n\n\n\n\n\n\n\n\n\n\n\n\n\n\n\n\n\n\n\n\n\n\n\n\n\n\
 n\n\n\n\n\n\n\n\n\n\n\n\n\n\n\n\n\n\n\n\n\n\n\n\n\n\n\n\n\n\n\n\n\n\n\n\n\n
 \n\n\n\n\n\n\n\n\n\n\n\n\n\n\n\n\n\n\n\n\n\n\n\n\n\n\n\n\n\n\n\n\n\n\n\n\n\
 n\n\n\n\n\n\n\n\n\n\n\n\n\n\n\n\n\n\n\n\n\n\n\n\n\n\n\n\n\n\n\n\n\n\n\n\n\n
 \n\n\n\n\n\n\n\n\n\n\n\n\n\n\n\n\n\n\n\n\n\n\n\n\n\n\n\n\n\n\n\n\n\n\n\n\n\
 n\n\n\n\n\n\n\n\n\n\n\n\n\n\n\n\n\n\n\n\n\n\n\n\n\n\n\n\n\n\n\n\n\n\n\n\n\n
 \n\n\n\n\n\n\n\n\n\n\n\n\n\n\n\n\n\n\n\n\n\n\n\n\n\n\n\n\n\n\n\n\n\n\n\n\n\
 n\n\n\n\n\n\n\n\n\n\n\n\n\n\n\n\n\n\n\n\n\n\n\n\n\n\n\n\n\n\n\n\n\n\n\n\n\n
 \n\n\n\n\n\n\n\n\n\n\n\n\n\n\n\n\n\n\n\n\n\n\n\n\n\n\n\n\n\n\n\n\n\n\n\n\n\
 n\n\n\n\n\n\n\n\n\n\n\n\nhttps://padlet.com/gemeinwohl/gemeinsam-gemeinwohl
 -community-dprgwu7fjq4vd41g/wish/PVKBQOk8rMeNQj5x
LOCATION:Auguste Frauentreff
DTSTAMP:20260425T100747Z
DTSTART:20260612T100000Z
DTEND:20260612T120000Z
END:VEVENT
END:VCALENDAR
