BEGIN:VCALENDAR
VERSION:2.0
PRODID:https://github.com/derhansen/sf_event_mgt
METHOD:PUBLISH
BEGIN:VEVENT
UID:249-56@www.wohnprojekte-portal.de
CLASS: PUBLIC
SUMMARY:Kennenlerntag auf Burg Disternich
DESCRIPTION:Du bist auf der Suche nach einer herzlichen, kreativen Mehrgene
 rationen-Lebensgemeinschaft auf einem traumhaften Grundstück mit viel Platz
  und Gestaltungsmöglichkeit und hast Lust, uns einfach mal unverbindlich ke
 nnenzulernen?\n\nAnfang Juli bieten wir auf unserer schönen Burg 40 km südw
 estlich von Köln wieder einen Neuinteressiertentag an mit vielen Infos, net
 ten Gesprächen und offenen Fragerunden.\n\nMelde dich bei Interesse unter k
 ontakt@burg-disternich.de für weitere Details.\n\nWir freuen uns auf dich!
LOCATION:Burg Disternich eG
DTSTAMP:20260425T100747Z
DTSTART:20260704T080000Z
DTEND:20260704T150000Z
END:VEVENT
END:VCALENDAR
