BEGIN:VCALENDAR
VERSION:2.0
PRODID:https://github.com/derhansen/sf_event_mgt
METHOD:PUBLISH
BEGIN:VEVENT
UID:271-56@www.wohnprojekte-portal.de
CLASS: PUBLIC
SUMMARY:Offene Sprechstunde für Wohnprojekte
DESCRIPTION:In der „Offenen Sprechstunde für Wohnprojekte“ werden in andert
 halb Stunden die wichtigsten Fragen nach dem „Wie, Wer und Wann“ beantworte
 t: Welche Rechtsformen eignen sich fürs gemeinschaftliche Wohnen? Wo gibt e
 s interessante Häuser? Was müssen wir als Erstes tun?\n\n\n\nEingeladen sin
 d alle Menschen, die erste Fragen zu dem Thema haben und diese gemeinsam in
  der Runde mit anderen Interessierten besprechen möchten. Los geht es 16 Uh
 r.\n\n\n\nAnmeldung bis Dienstag, 5. Mai 2026
DTSTAMP:20260425T100747Z
DTSTART:20260506T140000Z
DTEND:20260506T150000Z
END:VEVENT
END:VCALENDAR
