BEGIN:VCALENDAR
VERSION:2.0
PRODID:https://github.com/derhansen/sf_event_mgt
METHOD:PUBLISH
BEGIN:VEVENT
UID:217-56@www.wohnprojekte-portal.de
CLASS: PUBLIC
SUMMARY:Online-Treffen Wohnprojekt Gemeingut Bredenbeck
DESCRIPTION:Am Donnerstag 23.04.2026 um 18:30 Uhr findet das nächste Online
 -Treffen zum Wohnprojekt Gemeingut Bredenbeck statt. Wenn ihr mehr über das
  Projekt erfahren wollt und Interesse an einer der freien Wohnungen habt, m
 eldet euch an unter www.gemeingut-bredenbeck.de\n\n\n\nWir freuen uns auf e
 uch!
DTSTAMP:20260422T080744Z
DTSTART:20260423T163000Z
DTEND:20260423T183000Z
END:VEVENT
END:VCALENDAR
