BEGIN:VCALENDAR
VERSION:2.0
PRODID:https://github.com/derhansen/sf_event_mgt
METHOD:PUBLISH
BEGIN:VEVENT
UID:205-56@www.wohnprojekte-portal.de
CLASS: PUBLIC
SUMMARY:Projektinformationstermin Wohnvielfalt Dresden
DESCRIPTION:Genossenschaft Wohnvielfalt, Vorwerkstraße in DD-Friedrichstadt
  stellt sich vor\n\nDie Gruppe, die eine Genossenschaft gründen will und vo
 m bauforum dresden e.V. begleitet wird, hat den Zuschlag auf die Konzeptaus
 schreibung der Stadt Dresden erhalten. Die Stadt vergibt das Grundstück in 
 Erbbaupacht. Gemeinschaft, Inklusion und Nachhaltigkeit sind uns wichtig. \
 n\n\n\nEin Mehrgenerationenprojekt mit der Möglichkeit Inklusion für Mensch
 en mit Beeinträchtigungen zu ermöglichen – eine WG bildet sich bereits.\n\n
 \n\nNun werden weitere Mitmacher:innen gesucht. \n\n\n\nProjektinformations
 termine per Videokonferenz: anmelden hier  https://bauforum-dresden.de/bera
 tungstermine
DTSTAMP:20260422T080744Z
DTSTART:20260422T140000Z
DTEND:20260422T150000Z
END:VEVENT
END:VCALENDAR
