BEGIN:VCALENDAR
VERSION:2.0
PRODID:https://github.com/derhansen/sf_event_mgt
METHOD:PUBLISH
BEGIN:VEVENT
UID:275-56@www.wohnprojekte-portal.de
CLASS: PUBLIC
SUMMARY:Raus aufs Land um Dresden
DESCRIPTION:Informations- und Vernetzungsabend\n\nGemeinschaftlich Wohnen u
 m Dresden & Ostsachsen\n\n\n\nInput: Vorstellung des kostenlosen Unterstütz
 ungsangebots der Dezentrale\n\n\n\nAustausch & Vernetzung:\n\n– Gegenseitig
 es Kennenlernen der Teilnehmenden\n\n– Podiumsdiskussion mit Menschen aus W
 ohnprojekten zum Thema:\n\n„Gemeinschaftlich Wohnen – Der Weg zum Wohnproje
 kt“\n\ninkl. Vorstellungen bestehender Projekte, die Mitmachende suchen & a
 nschließender Austausch\n\n– Vorstellung möglicher Immobilien für neue Wohn
 projekte\n\n– Ausklang beim gemeinsamen Abendessen mit Mitbringbuffet\n\n\n
 \nFür wen?\n\nAlle, die vom Leben in Gemeinschaft auf dem Land träumen, sic
 h bereits in Gruppen organisieren oder Projekte aufbauen möchten. Offen für
  Einzelpersonen, Familien und Gruppen.\n\n\n\nMitbringbuffet: Wir freuen un
 s auf ein gemeinsames Essen, bringt dazu gern etwas mit.\n\nEinen Link zur 
 unserer Mitbringbuffet-Liste erhälst du in der Anmeldebestätigung.
LOCATION:Alte Gärtnerei
DTSTAMP:20260425T100747Z
DTSTART:20260526T150000Z
DTEND:20260526T180000Z
END:VEVENT
END:VCALENDAR
