BEGIN:VCALENDAR
VERSION:2.0
PRODID:https://github.com/derhansen/sf_event_mgt
METHOD:PUBLISH
BEGIN:VEVENT
UID:272-56@www.wohnprojekte-portal.de
CLASS: PUBLIC
SUMMARY:Raus aufs Land um Leipzig
DESCRIPTION:Gemeinschaftlich Wohnen im Leipziger Umland\n\n\n\nKennenlernen
  & Vernetzung:\n\n– Input und Austausch\n\n– Umland-Wohnprojekte, die weite
 re Personen suchen, stellen sich vor\n\n– Ausklang beim gemeinsamen Abendes
 sen mit Mitbring-Buffet\n\n\n\nFür wen?\n\nAlle, die vom Leben in Gemeinsch
 aft auf dem Land träumen, sich bereits in Gruppen organisieren oder Projekt
 e aufbauen möchten. Offen für Einzelpersonen, Familien und Gruppen.\n\n\n\n
 Mitbringbuffet: Wir freuen uns auf ein gemeinsames Essen, bringt dazu gern 
 etwas mit!\n\n\n\nBitte meldet euch bis Anfang Mai an und gebt Bescheid, wa
 s ihr auf das Buffet stellt.
LOCATION:Im Garten
DTSTAMP:20260425T100747Z
DTSTART:20260508T140000Z
DTEND:20260508T170000Z
END:VEVENT
END:VCALENDAR
