BEGIN:VCALENDAR
VERSION:2.0
PRODID:https://github.com/derhansen/sf_event_mgt
METHOD:PUBLISH
BEGIN:VEVENT
UID:274-56@www.wohnprojekte-portal.de
CLASS: PUBLIC
SUMMARY:Solarstrom im gemeinschaftlichen Wohnprojekt
DESCRIPTION:In den vergangenen Wochen und Monaten haben wir uns außerdem ve
 rtieft mit den Themen „Mieterstrom“ (§ 42a des Energiewirtschaftsgesetzes),
  „Gemeinschaftliche Gebäudeversorgung“ (§ 42b EnWG) und „Energy Sharing“ bz
 w. Erneuerbare-Energie-Gemeinschaften (§ 42 c EnWG) befasst. Es geht um die
  Erzeugung und bestmögliche Nutzung des Solarstroms im eigenen Haus sowie u
 m das demnächst rechtlich mögliche Teilen/Verkaufen der Stromüberschüsse mi
 t den Nachbar*innen.\n\n\n\nNeben einem fachlichen Input bietet das Seminar
  ausreichend Raum für Austausch und Fragen.\n\n\n\nDie Anmeldung ist bis Mo
 ntag, 18. Mai möglich.
DTSTAMP:20260425T100747Z
DTSTART:20260519T150000Z
DTEND:20260519T150000Z
END:VEVENT
END:VCALENDAR
