BEGIN:VCALENDAR
VERSION:2.0
PRODID:https://github.com/derhansen/sf_event_mgt
METHOD:PUBLISH
BEGIN:VEVENT
UID:261-56@www.wohnprojekte-portal.de
CLASS: PUBLIC
SUMMARY:vielleben Erndtebrück - Vor-Ort Treffen
DESCRIPTION:Übersicht\n\nIn Erndtebrück entsteht ein genossenschaftliches W
 ohnprojekt. Wir treffen uns am Ort des Geschehens zum Kennenlernen\n\n\n\nv
 ielleben Erndtebrück\n\n\n\nIn Endtebrück ensteht ein genossenschaftliches 
 Wohnprojek– inspiriert vom KoDorf Wiesenburg bei Berlin.\n\n\n\nIm Mittelpu
 nkt steht die Idee, den Dorfgedanken neu aufblühen zu lassen. In einem gesu
 nden Mix aus Rückzug und Gemeinschaft, aus kleinen und größeren Häusern, au
 s Stille und Lebendigkeit.\n\n\n\nDas Herz des Lebens pulsiert im ehemalige
 n Sägewerk. Hier ist Raum für Coworking, Werkstätten und ein großes Wohnzim
 mer mit langer Tafel.\n\n\n\nNähere Infos: www.vielleben-erndtebrueck.de\n\
 n\n\nWir möchten mit euch vor Ort zusammenkommen, um das Grundstück anzusch
 auen, das Projekt vorzustelllen, gemeinsam Ideen entstehen zu lassen und un
 s kennenzulernen.\n\n\n\nDetails zum Ablauf folgen!\n\n\n\nWir freuen uns a
 uf euch! ????
LOCATION:Erndtebrück, NRW
DTSTAMP:20260425T100747Z
DTSTART:20260509T090000Z
DTEND:20260509T120000Z
END:VEVENT
END:VCALENDAR
