BEGIN:VCALENDAR
VERSION:2.0
PRODID:https://github.com/derhansen/sf_event_mgt
METHOD:PUBLISH
BEGIN:VEVENT
UID:242-56@www.wohnprojekte-portal.de
CLASS: PUBLIC
SUMMARY:Wohnbörse Göttingen
DESCRIPTION:Zum dritten Mal in Folge findet in Göttingen die Wohnbörse stat
 t. Unser kleines Festival umfasst einen Markt der Möglichkeiten, Vorträge u
 nd Workshops zu neuen Wohnformen und gemeinschaftlichem Wohnen und Bauen in
  Stadt und Landkreis.
LOCATION:Arnoldi-Schule
DTSTAMP:20260425T100747Z
DTSTART:20260819T090000Z
DTEND:20260819T150000Z
END:VEVENT
END:VCALENDAR
